BEGIN:VCALENDAR
VERSION:2.0
PRODID:-//Library Market//iCal Export//EN
BEGIN:VEVENT
SUMMARY:Essential Software Skills Series: Microsoft Excel
UID:31818
DTSTAMP:20260420T131000Z
DTSTART:20260609T170000Z
DTEND:20260609T200000Z
LOCATION:1 Swift Ave., Egg Harbor Township, NJ 08234, United States
ROOM: Digital Literacy Lab
DESCRIPTION:This Microsoft Excel series provides a foundation for creating
  a functional spreadsheet. The curriculum covers building and formatting b
 udgets with AutoSum and formulas, organizing data across multiple workshee
 ts, and creating custom charts. By mastering both the technical layout and
  the final saving and printing processes, learners gain the tools to manag
 e data professionally and efficiently.
URL:https://atlanticcounty.librarycalendar.com/event/essential-software-sk
 ills-series-microsoft-excel-31818
END:VEVENT
END:VCALENDAR
