BEGIN:VCALENDAR
VERSION:2.0
PRODID:-//Library Market//iCal Export//EN
BEGIN:VEVENT
SUMMARY:All Write Now! Intro to Writing Workshop
UID:31497
DTSTAMP:20260423T185400Z
DTSTART:20260618T180000Z
DTEND:20260618T193000Z
LOCATION:City of Somers Point, 599 Marks Road, Somers Point, NJ 08244, Uni
 ted States
ROOM: Offsite
DESCRIPTION:*This event will be held at the Somers Point Youth Center. Ope
 n to teens and adults. Whether you&#039;re a new, aspiring writer or an ex
 perienced, prolific litterateur – come join us for an afternoon of flash
  genre writing. Using generative prompts and the power of your mind, see w
 hat wonderful prose or poetry you can create and share in the moment. Drea
 m, delight, reflect, revise, and hone your craft. Punctuation optional!
URL:https://atlanticcounty.librarycalendar.com/event/copy-all-write-now-in
 tro-writing-workshop-31497
END:VEVENT
END:VCALENDAR
