BEGIN:VCALENDAR
VERSION:2.0
PRODID:-//Library Market//iCal Export//EN
BEGIN:VEVENT
SUMMARY:June Tech Fest!
UID:31489
DTSTAMP:20260423T121500Z
DTSTART:20260629T170000Z
DTEND:20260629T190000Z
LOCATION:City of Somers Point, 22-98 N Ambler Rd, Somers Point, NJ 08244, 
 Somers Point, NJ 08244, United States
ROOM: Offsite
DESCRIPTION:*This event will be held at the Somers Point Senior Center.  
 Open to adults. Just got a new smartphone or laptop and need to know how t
 o get started? Need to know how to scan a QR code, access your pictures, o
 r send an email on your device? Bring your devices and your questions to t
 he Senior Center and get some tips. Disclaimer: We cannot offer technical 
 support or troubleshooting if your device has a more complicated issue.
URL:https://atlanticcounty.librarycalendar.com/event/copy-june-tech-fest-3
 1489
END:VEVENT
END:VCALENDAR
