BEGIN:VCALENDAR
VERSION:2.0
PRODID:-//Library Market//iCal Export//EN
BEGIN:VEVENT
SUMMARY:Essential Software Skills Series: Google Docs
UID:31367
DTSTAMP:20260419T165700Z
DTSTART:20260526T170000Z
DTEND:20260526T200000Z
LOCATION:1 Swift Ave., Egg Harbor Township, NJ 08234, United States
ROOM: Digital Literacy Lab
DESCRIPTION:This Google Docs series provides a complete roadmap from initi
 al setup to final distribution. Participants will learn to format document
 s using text styles, lists, tables, and images while mastering essential e
 diting shortcuts like copy, cut, and paste. The workshop also highlights r
 eal-time collaboration and sharing features, providing the practical skill
 s needed to polish and finalize documents.
URL:https://atlanticcounty.librarycalendar.com/event/essential-software-sk
 ills-series-google-docs-31367
END:VEVENT
END:VCALENDAR
