BEGIN:VCALENDAR
VERSION:2.0
PRODID:-//Library Market//iCal Export//EN
BEGIN:VEVENT
SUMMARY:All About Dad
UID:30630
DTSTAMP:20260420T162100Z
DTSTART:20260620T170000Z
DTEND:20260620T180000Z
LOCATION:Atlantic County Library System / Pleasantville Branch, 33 Martin 
 Luther King Jr. Ave., Pleasantville, NJ 08232, United States
ROOM: Pleasantville Computer Lab
DESCRIPTION:Come join us on this fun hour with dad, make memories listenin
 g to a story and a special craft.  
URL:https://atlanticcounty.librarycalendar.com/event/all-about-dad-30630
END:VEVENT
END:VCALENDAR
