BEGIN:VCALENDAR
VERSION:2.0
PRODID:-//Library Market//iCal Export//EN
BEGIN:VEVENT
SUMMARY:Water Balloon Fun!
UID:30353
DTSTAMP:20260421T044500Z
DTSTART:20260804T170000Z
DTEND:20260804T180000Z
LOCATION:Atlantic County Library System / Pleasantville Branch, 33 Martin 
 Luther King Jr. Ave., Pleasantville, NJ 08232, United States
ROOM: Pleasantville Children Area
DESCRIPTION:Summer fun on a hot day. Come in clothing you don&#039;t mind 
 getting wet. Bring your friends! 
URL:https://atlanticcounty.librarycalendar.com/event/water-ballon-fun-3035
 3
END:VEVENT
END:VCALENDAR
