BEGIN:VCALENDAR
VERSION:2.0
PRODID:-//Library Market//iCal Export//EN
BEGIN:VEVENT
SUMMARY:Squishy Water Pets!
UID:30344
DTSTAMP:20260420T131000Z
DTSTART:20260707T150000Z
DTEND:20260707T160000Z
LOCATION:Atlantic County Library System / Pleasantville Branch, 33 Martin 
 Luther King Jr. Ave., Pleasantville, NJ 08232, United States
ROOM: Pleasantville Children Area
DESCRIPTION:A cool pack of DIY Squishies! Viral on Tiktok, a fun activity 
 to engage with your children. Join us for a little splash!
URL:https://atlanticcounty.librarycalendar.com/event/squishy-water-pets-30
 344
END:VEVENT
END:VCALENDAR
