BEGIN:VCALENDAR
VERSION:2.0
PRODID:-//Library Market//iCal Export//EN
BEGIN:VEVENT
SUMMARY:Craft From The Past
UID:30336
DTSTAMP:20260420T131000Z
DTSTART:20260603T193000Z
DTEND:20260603T203000Z
LOCATION:Atlantic County Library System / Pleasantville Branch, 33 Martin 
 Luther King Jr. Ave., Pleasantville, NJ 08232, United States
ROOM: Pleasantville Children Area
DESCRIPTION:Lava lamps...An iconic pop culture item! If you saw one of the
 se on television, you 100% wanted one. Join us in making your childhood dr
 eam come true.
URL:https://atlanticcounty.librarycalendar.com/event/craft-past-30336
END:VEVENT
END:VCALENDAR
