BEGIN:VCALENDAR
VERSION:2.0
PRODID:-//Library Market//iCal Export//EN
BEGIN:VEVENT
SUMMARY:Messy Monday
UID:30275
DTSTAMP:20260420T131000Z
DTSTART:20260803T190000Z
DTEND:20260803T200000Z
LOCATION:Atlantic County Library System / Pleasantville Branch, 33 Martin 
 Luther King Jr. Ave., Pleasantville, NJ 08232, United States
ROOM: Pleasantville Children Area
DESCRIPTION:Open to all ages. Get messy by getting into glue, glitter or p
 aint with us. Don&#039;t miss this exciting event that the whole family ca
 n enjoy together.
URL:https://atlanticcounty.librarycalendar.com/event/messy-monday-30275
END:VEVENT
END:VCALENDAR
