BEGIN:VCALENDAR
VERSION:2.0
PRODID:-//Library Market//iCal Export//EN
BEGIN:VEVENT
SUMMARY:Senior Craft &amp; Activities
UID:30265
DTSTAMP:20260419T165700Z
DTSTART:20260612T170000Z
DTEND:20260612T180000Z
LOCATION:Atlantic County Library System / Pleasantville Branch, 33 Martin 
 Luther King Jr. Ave., Pleasantville, NJ 08232, United States
ROOM: Pleasantville Computer Lab
DESCRIPTION:Are you a social butterfly who enjoys arts and crafts?Each wee
 k we&#039;ll share theme-inspired coloring pages, paintings and simple cra
 fts, all great for keeping your brain alert and motor skills sharp. 
URL:https://atlanticcounty.librarycalendar.com/event/senior-craft-and-acti
 vities-30265
END:VEVENT
END:VCALENDAR
