BEGIN:VCALENDAR
VERSION:2.0
PRODID:-//Library Market//iCal Export//EN
BEGIN:VEVENT
SUMMARY:Summer Crafts at Somers Point
UID:30172
DTSTAMP:20260423T082800Z
DTSTART:20260709T220000Z
DTEND:20260709T230000Z
LOCATION:801 Shore Rd., Somers Point, NJ 08244, United States
ROOM: Summer Crafts at Somers Point
DESCRIPTION:Open to adults and interested teens. Get creative with our Sum
 mer Crafts at Somers Point! Each month will feature a different seasonal a
 ctivity.June 11th: Recycled T-Shirt TotesJuly 9th: Seashell Wind Chimes
URL:https://atlanticcounty.librarycalendar.com/event/draft-summer-crafts-s
 omers-point-30172
END:VEVENT
END:VCALENDAR
