BEGIN:VCALENDAR
VERSION:2.0
PRODID:-//Library Market//iCal Export//EN
BEGIN:VEVENT
SUMMARY:Curious Card Games
UID:29108
DTSTAMP:20260420T162100Z
DTSTART:20260721T213000Z
DTEND:20260721T223000Z
LOCATION:Atlantic County Library System / Pleasantville Branch, 33 Martin 
 Luther King Jr. Ave., Pleasantville, NJ 08232, United States
ROOM: Pleasantville Computer Lab
DESCRIPTION:Join us every month at the library as we discover how to play 
 a new card game!
URL:https://atlanticcounty.librarycalendar.com/event/curious-card-games-29
 108
END:VEVENT
END:VCALENDAR
