BEGIN:VCALENDAR
VERSION:2.0
PRODID:-//Library Market//iCal Export//EN
BEGIN:VEVENT
SUMMARY:Summer Ceramic Fun
UID:28444
DTSTAMP:20260419T165700Z
DTSTART:20260718T180000Z
DTEND:20260718T191500Z
LOCATION:Atlantic County Library System / Pleasantville Branch, 33 Martin 
 Luther King Jr. Ave., Pleasantville, NJ 08232, United States
ROOM: Pleasantville Computer Lab
DESCRIPTION:Join us for an expert-led evening of ceramics! Enjoy a fun and
  creative activity perfect for kids, families and adults.
URL:https://atlanticcounty.librarycalendar.com/event/summer-ceramic-fun-28
 444
END:VEVENT
END:VCALENDAR
